BEGIN:VCALENDAR
VERSION:2.0
PRODID:-//Center for Synthetic Biology - ECPv6.2.0.1//NONSGML v1.0//EN
CALSCALE:GREGORIAN
METHOD:PUBLISH
X-WR-CALNAME:Center for Synthetic Biology
X-ORIGINAL-URL:https://syntheticbiology.northwestern.edu
X-WR-CALDESC:Events for Center for Synthetic Biology
REFRESH-INTERVAL;VALUE=DURATION:PT1H
X-Robots-Tag:noindex
X-PUBLISHED-TTL:PT1H
BEGIN:VTIMEZONE
TZID:America/Chicago
BEGIN:DAYLIGHT
TZOFFSETFROM:-0600
TZOFFSETTO:-0500
TZNAME:CDT
DTSTART:20230312T080000
END:DAYLIGHT
BEGIN:STANDARD
TZOFFSETFROM:-0500
TZOFFSETTO:-0600
TZNAME:CST
DTSTART:20231105T070000
END:STANDARD
END:VTIMEZONE
BEGIN:VEVENT
DTSTART;VALUE=DATE:20231027
DTEND;VALUE=DATE:20231028
DTSTAMP:20260421T032104
CREATED:20230826T234402Z
LAST-MODIFIED:20230928T181004Z
UID:1482-1698364800-1698451199@syntheticbiology.northwestern.edu
SUMMARY:CSB Annual Retreat
DESCRIPTION:
URL:https://syntheticbiology.northwestern.edu/event/csb-annual-retreat/
LOCATION:Chicago Campus\, 303 East Superior Street\, Chicago\, IL\, 60611\, United States
CATEGORIES:Annual Retreat
END:VEVENT
END:VCALENDAR