BEGIN:VCALENDAR
VERSION:2.0
PRODID:-//Center for Synthetic Biology - ECPv6.2.0.1//NONSGML v1.0//EN
CALSCALE:GREGORIAN
METHOD:PUBLISH
X-WR-CALNAME:Center for Synthetic Biology
X-ORIGINAL-URL:https://syntheticbiology.northwestern.edu
X-WR-CALDESC:Events for Center for Synthetic Biology
REFRESH-INTERVAL;VALUE=DURATION:PT1H
X-Robots-Tag:noindex
X-PUBLISHED-TTL:PT1H
BEGIN:VTIMEZONE
TZID:UTC
BEGIN:STANDARD
TZOFFSETFROM:+0000
TZOFFSETTO:+0000
TZNAME:UTC
DTSTART:20230101T000000
END:STANDARD
END:VTIMEZONE
BEGIN:VEVENT
DTSTART;VALUE=DATE:20231029
DTEND;VALUE=DATE:20231101
DTSTAMP:20260419T172824
CREATED:20230826T234402Z
LAST-MODIFIED:20231026T130146Z
UID:1481-1698537600-1698796799@syntheticbiology.northwestern.edu
SUMMARY:SynBAS NRT Annual Meeting
DESCRIPTION:The NSF Research Traineeship program addresses workforce development\, emphasizing broad participation\, and institutional capacity building needs in graduate education. Arizona State University is hosting the NSF NRT Annual Meeting October 29-31\, 2023. This yearÕs meeting will be held in person in Tempe\, Arizona\, and virtually over Zoom.Like previous annual meetings\, this one is designed to help participants to: \n\nbuild networks of researchers and practitioners in ways that continue to grow interdisciplinary graduate education\,\nshare ideas and best practices within NSF-funded interdisciplinary graduate education programs\,\nenhance the educational and scholarly impacts of their programs\, effectively assess programmatic outcomes\, recruit and retain students from underrepresented groups\, and report progress to NSF\, and\npromote graduate student engagement and development.\n\nThere will be sessions for PIs\, program coordinators\, evaluators\, and graduate students.
URL:https://syntheticbiology.northwestern.edu/event/synbas-nrt-annual-meeting-2/
LOCATION:IL
ATTACH;FMTTYPE=image/png:https://syntheticbiology.northwestern.edu/app/uploads/2023/08/NRT-Annual-Meeting-2023-events.png
END:VEVENT
END:VCALENDAR