BEGIN:VCALENDAR
VERSION:2.0
PRODID:-//Center for Synthetic Biology - ECPv6.2.0.1//NONSGML v1.0//EN
CALSCALE:GREGORIAN
METHOD:PUBLISH
X-WR-CALNAME:Center for Synthetic Biology
X-ORIGINAL-URL:https://syntheticbiology.northwestern.edu
X-WR-CALDESC:Events for Center for Synthetic Biology
REFRESH-INTERVAL;VALUE=DURATION:PT1H
X-Robots-Tag:noindex
X-PUBLISHED-TTL:PT1H
BEGIN:VTIMEZONE
TZID:America/Chicago
BEGIN:DAYLIGHT
TZOFFSETFROM:-0600
TZOFFSETTO:-0500
TZNAME:CDT
DTSTART:20240310T080000
END:DAYLIGHT
BEGIN:STANDARD
TZOFFSETFROM:-0500
TZOFFSETTO:-0600
TZNAME:CST
DTSTART:20241103T070000
END:STANDARD
END:VTIMEZONE
BEGIN:VEVENT
DTSTART;TZID=America/Chicago:20240307T160000
DTEND;TZID=America/Chicago:20240307T170000
DTSTAMP:20260421T160414
CREATED:20240228T162204Z
LAST-MODIFIED:20240429T182253Z
UID:3929-1709827200-1709830800@syntheticbiology.northwestern.edu
SUMMARY:CSB Seminar Series - Gale Wichmann
DESCRIPTION:Gale Wichmann\, Senior Director\, Strategic Partnerships at Amyris\, will be giving a CSB seminar\, “Turning Sustainable Biology into a Sustainable Business: Real Life Lessons from the Synthetic Biology Company Amyris\,” on the Evanston campus. \nAfter 20 years of existence\, Amyris continues to be a leader in the world of synthetic biology.  Amyris has gone from a stary-eyed start-up to a company that has successfully manufactured and commercialized 14 molecules. Along the way we’ve learned\, sometimes painfully\, what it actually takes to successfully commercialize a synthetic biology product. This talk will review Amyris\, our technology\, and the lessons we’ve learned that are critical for commercial success \nDetails for the seminar are as follows: \n\nDate: Thursday\, March 7th\nTime: 4:00-5:00pm\nLocation: Evanston Campus\, Tech LR2 Auditorium
URL:https://syntheticbiology.northwestern.edu/event/csb-seminar-series-gale-wichmann/
LOCATION:Evanston Campus\, 2145 Sheridan Road\, Evanston\, IL\, 60208\, United States
CATEGORIES:Seminar Series
ATTACH;FMTTYPE=image/png:https://syntheticbiology.northwestern.edu/app/uploads/2024/02/thumbnail_CSBseminar_GaleWichmann.png
END:VEVENT
END:VCALENDAR