BEGIN:VCALENDAR
VERSION:2.0
PRODID:-//Center for Synthetic Biology - ECPv6.2.0.1//NONSGML v1.0//EN
CALSCALE:GREGORIAN
METHOD:PUBLISH
X-WR-CALNAME:Center for Synthetic Biology
X-ORIGINAL-URL:https://syntheticbiology.northwestern.edu
X-WR-CALDESC:Events for Center for Synthetic Biology
REFRESH-INTERVAL;VALUE=DURATION:PT1H
X-Robots-Tag:noindex
X-PUBLISHED-TTL:PT1H
BEGIN:VTIMEZONE
TZID:America/Chicago
BEGIN:DAYLIGHT
TZOFFSETFROM:-0600
TZOFFSETTO:-0500
TZNAME:CDT
DTSTART:20240310T080000
END:DAYLIGHT
BEGIN:STANDARD
TZOFFSETFROM:-0500
TZOFFSETTO:-0600
TZNAME:CST
DTSTART:20241103T070000
END:STANDARD
END:VTIMEZONE
BEGIN:VEVENT
DTSTART;TZID=America/Chicago:20240611T093000
DTEND;TZID=America/Chicago:20240611T103000
DTSTAMP:20260419T152735
CREATED:20240508T181742Z
LAST-MODIFIED:20240603T144100Z
UID:4129-1718098200-1718101800@syntheticbiology.northwestern.edu
SUMMARY:CSB & BTP Seminar Series - Owen Ryan
DESCRIPTION:This event is being co-sponsored with the Biotechnology Training Program and Northwestern Corporate Engagement. \nREGISTRATION LINK
URL:https://syntheticbiology.northwestern.edu/event/csb-btp-seminar-series-owen-ryan/
LOCATION:Evanston Campus\, 2145 Sheridan Road\, Evanston\, IL\, 60208\, United States
CATEGORIES:Seminar Series
ATTACH;FMTTYPE=image/jpeg:https://syntheticbiology.northwestern.edu/app/uploads/2024/05/Owen-Ryan-ADM-Seminarv4.jpg
END:VEVENT
END:VCALENDAR