BEGIN:VCALENDAR
VERSION:2.0
PRODID:-//Center for Synthetic Biology - ECPv6.2.0.1//NONSGML v1.0//EN
CALSCALE:GREGORIAN
METHOD:PUBLISH
X-WR-CALNAME:Center for Synthetic Biology
X-ORIGINAL-URL:https://syntheticbiology.northwestern.edu
X-WR-CALDESC:Events for Center for Synthetic Biology
REFRESH-INTERVAL;VALUE=DURATION:PT1H
X-Robots-Tag:noindex
X-PUBLISHED-TTL:PT1H
BEGIN:VTIMEZONE
TZID:America/Chicago
BEGIN:DAYLIGHT
TZOFFSETFROM:-0600
TZOFFSETTO:-0500
TZNAME:CDT
DTSTART:20240310T080000
END:DAYLIGHT
BEGIN:STANDARD
TZOFFSETFROM:-0500
TZOFFSETTO:-0600
TZNAME:CST
DTSTART:20241103T070000
END:STANDARD
END:VTIMEZONE
BEGIN:VEVENT
DTSTART;TZID=America/Chicago:20241011T090000
DTEND;TZID=America/Chicago:20241011T173000
DTSTAMP:20260421T095256
CREATED:20240925T181723Z
LAST-MODIFIED:20241008T160218Z
UID:4559-1728637200-1728667800@syntheticbiology.northwestern.edu
SUMMARY:2024 CSB Annual Retreat
DESCRIPTION:Join the Center for Synthetic Biology (CSB) faculty\, staff\, and trainees\, and guest speakers from academia and industry for our Annual Retreat to exchange ideas\, career experiences\, and path-breaking research across different disciplines in the field of synthetic biology. Registration is free and open to CSB community members. \nCSB Annual Retreat\nFriday\, October 11\, 2024\nHilton Garden Inn\, Evanston\, IL \nRetreat website \nRegistration has closed. Please contact csb@northwestern.edu for registration questions.
URL:https://syntheticbiology.northwestern.edu/event/2024-csb-annual-retreat/
LOCATION:Off-Campus\, 1702 Chicago Ave\, Evanston\, IL\, 60201
CATEGORIES:Annual Retreat
ATTACH;FMTTYPE=image/jpeg:https://syntheticbiology.northwestern.edu/app/uploads/2024/09/291A1387-scaled-e1727708033888.jpg
END:VEVENT
END:VCALENDAR