BEGIN:VCALENDAR
VERSION:2.0
PRODID:-//Center for Synthetic Biology - ECPv6.2.0.1//NONSGML v1.0//EN
CALSCALE:GREGORIAN
METHOD:PUBLISH
X-WR-CALNAME:Center for Synthetic Biology
X-ORIGINAL-URL:https://syntheticbiology.northwestern.edu
X-WR-CALDESC:Events for Center for Synthetic Biology
REFRESH-INTERVAL;VALUE=DURATION:PT1H
X-Robots-Tag:noindex
X-PUBLISHED-TTL:PT1H
BEGIN:VTIMEZONE
TZID:America/Chicago
BEGIN:DAYLIGHT
TZOFFSETFROM:-0600
TZOFFSETTO:-0500
TZNAME:CDT
DTSTART:20250309T080000
END:DAYLIGHT
BEGIN:STANDARD
TZOFFSETFROM:-0500
TZOFFSETTO:-0600
TZNAME:CST
DTSTART:20251102T070000
END:STANDARD
END:VTIMEZONE
BEGIN:VEVENT
DTSTART;TZID=America/Chicago:20250210T120000
DTEND;TZID=America/Chicago:20250210T130000
DTSTAMP:20260421T211815
CREATED:20240927T140751Z
LAST-MODIFIED:20240927T140751Z
UID:4571-1739188800-1739192400@syntheticbiology.northwestern.edu
SUMMARY:February- Research In Progress Meeting
DESCRIPTION:The Research-In-Progress (RIP) Meetings aim to highlight ongoing\, unpublished work by students and postdoctoral fellows in CSB. These monthly meetings strengthen our research and foster a more collaborative research environment by organizing the diverse sets of expertise within CSB and our greater research community to discuss new results\, suggest future experiments\, and brainstorm potential applications. These also provide a forum in which students and postdocs can practice scientific communication with colleagues in a more relaxed atmosphere.
URL:https://syntheticbiology.northwestern.edu/event/february-research-in-progress-meeting/
LOCATION:Evanston Campus\, 2145 Sheridan Road\, Evanston\, IL\, 60208\, United States
CATEGORIES:RIP Meetings
END:VEVENT
BEGIN:VEVENT
DTSTART;TZID=America/Chicago:20250210T160000
DTEND;TZID=America/Chicago:20250210T170000
DTSTAMP:20260421T211815
CREATED:20250121T211657Z
LAST-MODIFIED:20250130T173426Z
UID:5094-1739203200-1739206800@syntheticbiology.northwestern.edu
SUMMARY:CSB Workshop - Patrick Mbullo Owuor
DESCRIPTION:**Please note new day and time below.** \nTitle: Navigating the stakeholder’s landscape: An immersive\, experiential workshop on translating synthetic biology innovations into the world.  \nAbstract: \nDeveloping impactful synthetic biology technologies requires them to be successfully adopted by real world stakeholders. This makes understanding the stakeholders ‘ecosystem’ an important part of translating any synthetic biology innovation. In this workshop\, we will employ a human-centered design approach to explore the role of stakeholders’ ecosystems in the successful development\, adoption\, and implementation of user-friendly (or centered) synthetic biology innovations. The workshop will focus on the case study of PLANT-Dx\, a CRISPR-based biosensor technology being developed in the Center for Synthetic Biology to monitor crop pathogens from seed to post-harvest stages. In this immersive\, experiential workshop\, participants (developers) will work to unlock and navigate the complex ecosystem of stakeholders involved in technology design\, development\, transfer\, and adoption in Africa. Lessons learned from this case study will then be applied to critically analyze key components of the stakeholder ecosystems relevant to technologies participants are researching.
URL:https://syntheticbiology.northwestern.edu/event/csb-workshop-patrick-mbullo-owuor/
LOCATION:Evanston Campus\, 2145 Sheridan Road\, Evanston\, IL\, 60208\, United States
CATEGORIES:Seminar Series
END:VEVENT
END:VCALENDAR