BEGIN:VCALENDAR
VERSION:2.0
PRODID:-//Center for Synthetic Biology - ECPv6.2.0.1//NONSGML v1.0//EN
CALSCALE:GREGORIAN
METHOD:PUBLISH
X-WR-CALNAME:Center for Synthetic Biology
X-ORIGINAL-URL:https://syntheticbiology.northwestern.edu
X-WR-CALDESC:Events for Center for Synthetic Biology
REFRESH-INTERVAL;VALUE=DURATION:PT1H
X-Robots-Tag:noindex
X-PUBLISHED-TTL:PT1H
BEGIN:VTIMEZONE
TZID:America/Chicago
BEGIN:DAYLIGHT
TZOFFSETFROM:-0600
TZOFFSETTO:-0500
TZNAME:CDT
DTSTART:20250309T080000
END:DAYLIGHT
BEGIN:STANDARD
TZOFFSETFROM:-0500
TZOFFSETTO:-0600
TZNAME:CST
DTSTART:20251102T070000
END:STANDARD
END:VTIMEZONE
BEGIN:VEVENT
DTSTART;TZID=America/Chicago:20250506T090000
DTEND;TZID=America/Chicago:20250506T100000
DTSTAMP:20260421T114754
CREATED:20241112T214752Z
LAST-MODIFIED:20250505T184744Z
UID:4945-1746522000-1746525600@syntheticbiology.northwestern.edu
SUMMARY:CANCELLED - CSB Seminar Series - Jennifer Brophy
DESCRIPTION:PLEASE NOTE THIS EVENT HAS BEEN CANCELLED \nJennifer Brophy is an Assistant Professor of Bioengineering at Stanford University.
URL:https://syntheticbiology.northwestern.edu/event/csb-seminar-series-jennifer-brophy/
LOCATION:Evanston Campus\, 2145 Sheridan Road\, Evanston\, IL\, 60208\, United States
CATEGORIES:Seminar Series
END:VEVENT
BEGIN:VEVENT
DTSTART;TZID=America/Chicago:20250506T160000
DTEND;TZID=America/Chicago:20250506T170000
DTSTAMP:20260421T114754
CREATED:20240927T141448Z
LAST-MODIFIED:20250505T184907Z
UID:4584-1746547200-1746550800@syntheticbiology.northwestern.edu
SUMMARY:CANCELLED - May - CSB Social
DESCRIPTION:**PLEASE NOTE THIS EVENT HAS BEEN CANCELLED AND WILL BE RESCHEDULED FOR A FUTURE DATE** \nJoin us at our upcoming social event and immerse yourself in a vibrant community of synthetic biologists. Connect and engage with fellow students\, postdocs\, staff\, and faculty over refreshments.
URL:https://syntheticbiology.northwestern.edu/event/csb-social-2/
LOCATION:Evanston Campus\, 2145 Sheridan Road\, Evanston\, IL\, 60208\, United States
CATEGORIES:CSB Socials
END:VEVENT
END:VCALENDAR