BEGIN:VCALENDAR
VERSION:2.0
PRODID:-//Center for Synthetic Biology - ECPv6.2.0.1//NONSGML v1.0//EN
CALSCALE:GREGORIAN
METHOD:PUBLISH
X-WR-CALNAME:Center for Synthetic Biology
X-ORIGINAL-URL:https://syntheticbiology.northwestern.edu
X-WR-CALDESC:Events for Center for Synthetic Biology
REFRESH-INTERVAL;VALUE=DURATION:PT1H
X-Robots-Tag:noindex
X-PUBLISHED-TTL:PT1H
BEGIN:VTIMEZONE
TZID:America/Chicago
BEGIN:DAYLIGHT
TZOFFSETFROM:-0600
TZOFFSETTO:-0500
TZNAME:CDT
DTSTART:20250309T080000
END:DAYLIGHT
BEGIN:STANDARD
TZOFFSETFROM:-0500
TZOFFSETTO:-0600
TZNAME:CST
DTSTART:20251102T070000
END:STANDARD
END:VTIMEZONE
BEGIN:VEVENT
DTSTART;TZID=America/Chicago:20250520T110000
DTEND;TZID=America/Chicago:20250520T120000
DTSTAMP:20260421T114745
CREATED:20250515T140407Z
LAST-MODIFIED:20250515T140407Z
UID:5416-1747738800-1747742400@syntheticbiology.northwestern.edu
SUMMARY:CSB Seminar Series - Michael Koeris
DESCRIPTION:Michael Koeris is the Director of Biological Technologies Office of DARPA \nDetails for the seminar are as follows: \n\nDate: Tuesday\, May 20th\, 2025\nTime: 11:00am-12:00pm\nLocation: Evanston Campus
URL:https://syntheticbiology.northwestern.edu/event/csb-seminar-series-michael-koeris/
LOCATION:Evanston Campus\, 2145 Sheridan Road\, Evanston\, IL\, 60208\, United States
CATEGORIES:Seminar Series
END:VEVENT
END:VCALENDAR