BEGIN:VCALENDAR
VERSION:2.0
PRODID:-//Center for Synthetic Biology - ECPv6.2.0.1//NONSGML v1.0//EN
CALSCALE:GREGORIAN
METHOD:PUBLISH
X-WR-CALNAME:Center for Synthetic Biology
X-ORIGINAL-URL:https://syntheticbiology.northwestern.edu
X-WR-CALDESC:Events for Center for Synthetic Biology
REFRESH-INTERVAL;VALUE=DURATION:PT1H
X-Robots-Tag:noindex
X-PUBLISHED-TTL:PT1H
BEGIN:VTIMEZONE
TZID:America/Chicago
BEGIN:DAYLIGHT
TZOFFSETFROM:-0600
TZOFFSETTO:-0500
TZNAME:CDT
DTSTART:20250309T080000
END:DAYLIGHT
BEGIN:STANDARD
TZOFFSETFROM:-0500
TZOFFSETTO:-0600
TZNAME:CST
DTSTART:20251102T070000
END:STANDARD
END:VTIMEZONE
BEGIN:VEVENT
DTSTART;TZID=America/Chicago:20250625T120000
DTEND;TZID=America/Chicago:20250625T130000
DTSTAMP:20260425T055207
CREATED:20250609T182632Z
LAST-MODIFIED:20250612T134704Z
UID:5458-1750852800-1750856400@syntheticbiology.northwestern.edu
SUMMARY:MRSEC & CSB Seminar Series - Canan Atılgan
DESCRIPTION:This is a joint event with MRSEC. Faculty host – Sinan Keten. \n“Leveraging Allostery for the Rational Design and Performance Ranking of Fluorescent Protein-Based Biosensors” \nCanan Atılgan is a faculty of Engineering and Natural Sciences at Sabanci University in Istanbul\, Turkey. \nDetails for the seminar are as follows: \nDate: Wednesday\, June 25th\, 2025\nTime: 12:00-1:00pm\nLocation: Evanston Campus
URL:https://syntheticbiology.northwestern.edu/event/mrsec-csb-seminar-series-canan-atilgan/
LOCATION:Evanston Campus\, 2145 Sheridan Road\, Evanston\, IL\, 60208\, United States
CATEGORIES:Seminar Series
END:VEVENT
END:VCALENDAR