BEGIN:VCALENDAR
VERSION:2.0
PRODID:-//Center for Synthetic Biology - ECPv6.2.0.1//NONSGML v1.0//EN
CALSCALE:GREGORIAN
METHOD:PUBLISH
X-WR-CALNAME:Center for Synthetic Biology
X-ORIGINAL-URL:https://syntheticbiology.northwestern.edu
X-WR-CALDESC:Events for Center for Synthetic Biology
REFRESH-INTERVAL;VALUE=DURATION:PT1H
X-Robots-Tag:noindex
X-PUBLISHED-TTL:PT1H
BEGIN:VTIMEZONE
TZID:America/Chicago
BEGIN:DAYLIGHT
TZOFFSETFROM:-0600
TZOFFSETTO:-0500
TZNAME:CDT
DTSTART:20250309T080000
END:DAYLIGHT
BEGIN:STANDARD
TZOFFSETFROM:-0500
TZOFFSETTO:-0600
TZNAME:CST
DTSTART:20251102T070000
END:STANDARD
END:VTIMEZONE
BEGIN:VEVENT
DTSTART;TZID=America/Chicago:20250715T090000
DTEND;TZID=America/Chicago:20250715T103000
DTSTAMP:20260421T081844
CREATED:20250626T165451Z
LAST-MODIFIED:20250710T181316Z
UID:5477-1752570000-1752575400@syntheticbiology.northwestern.edu
SUMMARY:Data Interpretation\, Visualization\, and Presentation
DESCRIPTION:Instructors: Yogesh Goyal & Ashty Karim\nTuesday\, July 15th\, 2025: 9:00-10:30am\, Chicago Campus \nThis workshop will cover understanding data collection\, statistical significance\, data interpretation\, reproducibility\, using models\, and reformulating hypotheses. Additionally\, constructing high-impact figures from collected data will be examined.
URL:https://syntheticbiology.northwestern.edu/event/data-interpretation-visualization-and-presentation/
LOCATION:Chicago Campus\, 303 East Superior Street\, Chicago\, IL\, 60611\, United States
CATEGORIES:RDC Workshops
END:VEVENT
END:VCALENDAR