BEGIN:VCALENDAR
VERSION:2.0
PRODID:-//Center for Synthetic Biology - ECPv6.2.0.1//NONSGML v1.0//EN
CALSCALE:GREGORIAN
METHOD:PUBLISH
X-WR-CALNAME:Center for Synthetic Biology
X-ORIGINAL-URL:https://syntheticbiology.northwestern.edu
X-WR-CALDESC:Events for Center for Synthetic Biology
REFRESH-INTERVAL;VALUE=DURATION:PT1H
X-Robots-Tag:noindex
X-PUBLISHED-TTL:PT1H
BEGIN:VTIMEZONE
TZID:America/Chicago
BEGIN:DAYLIGHT
TZOFFSETFROM:-0600
TZOFFSETTO:-0500
TZNAME:CDT
DTSTART:20260308T080000
END:DAYLIGHT
BEGIN:STANDARD
TZOFFSETFROM:-0500
TZOFFSETTO:-0600
TZNAME:CST
DTSTART:20261101T070000
END:STANDARD
END:VTIMEZONE
BEGIN:VEVENT
DTSTART;TZID=America/Chicago:20260203T150000
DTEND;TZID=America/Chicago:20260203T183000
DTSTAMP:20260421T083430
CREATED:20260115T203415Z
LAST-MODIFIED:20260120T233652Z
UID:5910-1770130800-1770143400@syntheticbiology.northwestern.edu
SUMMARY:CSB Seminar Series - Dr. Kate Rubins
DESCRIPTION:The Center for Synthetic Biology\, in collaboration with the Center for Interdisciplinary Exploration and Research in Astrophysics (CIERA)\, is pleased to welcome Dr. Kate Rubins\, microbiologist and retired NASA astronaut\, for a seminar exploring how insights from space-based genomics and systems biology can inform synthetic biology approaches to waste reclamation\, environmental sensing\, and biological operation in remote\, resource-constrained environments on Earth and beyond. \nThis seminar serves as a lead-up event to the Center for Synthetic Biology’s 10-Year Anniversary\, to be celebrated May 13–14\, 2026. \nDetails for the seminar are as follows: \n\nDate: Tuesday\, February 3rd\nTime: Seminar 3:00-4:00pm\, Reception 4:00-5:00pm\, Tour & Observation 5:00-6:30pm\nLocation: Evanston Campus
URL:https://syntheticbiology.northwestern.edu/event/csb-seminar-series-dr-kate-rubins/
LOCATION:Evanston Campus\, 2145 Sheridan Road\, Evanston\, IL\, 60208\, United States
CATEGORIES:Seminar Series
ATTACH;FMTTYPE=image/jpeg:https://syntheticbiology.northwestern.edu/app/uploads/2026/01/kate-rubins-retirement-pic-2-scaled-e1768509384846.jpeg
END:VEVENT
END:VCALENDAR