BEGIN:VCALENDAR
VERSION:2.0
PRODID:-//Center for Synthetic Biology - ECPv6.2.0.1//NONSGML v1.0//EN
CALSCALE:GREGORIAN
METHOD:PUBLISH
X-WR-CALNAME:Center for Synthetic Biology
X-ORIGINAL-URL:https://syntheticbiology.northwestern.edu
X-WR-CALDESC:Events for Center for Synthetic Biology
REFRESH-INTERVAL;VALUE=DURATION:PT1H
X-Robots-Tag:noindex
X-PUBLISHED-TTL:PT1H
BEGIN:VTIMEZONE
TZID:America/Chicago
BEGIN:DAYLIGHT
TZOFFSETFROM:-0600
TZOFFSETTO:-0500
TZNAME:CDT
DTSTART:20260308T080000
END:DAYLIGHT
BEGIN:STANDARD
TZOFFSETFROM:-0500
TZOFFSETTO:-0600
TZNAME:CST
DTSTART:20261101T070000
END:STANDARD
END:VTIMEZONE
BEGIN:VEVENT
DTSTART;TZID=America/Chicago:20260415T150000
DTEND;TZID=America/Chicago:20260415T180000
DTSTAMP:20260421T211822
CREATED:20260325T173043Z
LAST-MODIFIED:20260410T195602Z
UID:6175-1776265200-1776276000@syntheticbiology.northwestern.edu
SUMMARY:CSB Seminar Series - Dario Robleto
DESCRIPTION:The Center for Synthetic Biology\, in collaboration with the Block Museum of Art at Northwestern\, is pleased to welcome Dario Robleto\, award-winning multi-media artist\, for a screening of his film Ancient Beacons Long for Notice. A community conversation after the screening will explore this question in the context of synthetic biology’s history\, encouraging us to consider its ethical implications as we forecast the future. \nThis seminar serves as a lead-up event to the Center for Synthetic Biology’s 10-Year Anniversary\, to be celebrated May 13–14\, 2026. \nDetails for the seminar are as follows: \n\nDate: Wednesday\, April 15th\nTime: Film Screening & Discussion: 3:00-5:00pm\, Reception: 5:00-6:00pm\nLocation: Evanston Campus\n\nREGISTER \n 
URL:https://syntheticbiology.northwestern.edu/event/csb-seminar-series-dario-robleto/
LOCATION:Evanston Campus\, 2145 Sheridan Road\, Evanston\, IL\, 60208\, United States
CATEGORIES:Seminar Series
ATTACH;FMTTYPE=image/jpeg:https://syntheticbiology.northwestern.edu/app/uploads/2026/03/Robleto-headshot-scaled.jpg
END:VEVENT
END:VCALENDAR