BEGIN:VCALENDAR
VERSION:2.0
PRODID:-//Center for Synthetic Biology - ECPv6.2.0.1//NONSGML v1.0//EN
CALSCALE:GREGORIAN
METHOD:PUBLISH
X-ORIGINAL-URL:https://syntheticbiology.northwestern.edu
X-WR-CALDESC:Events for Center for Synthetic Biology
REFRESH-INTERVAL;VALUE=DURATION:PT1H
X-Robots-Tag:noindex
X-PUBLISHED-TTL:PT1H
BEGIN:VTIMEZONE
TZID:America/Chicago
BEGIN:DAYLIGHT
TZOFFSETFROM:-0600
TZOFFSETTO:-0500
TZNAME:CDT
DTSTART:20260308T080000
END:DAYLIGHT
BEGIN:STANDARD
TZOFFSETFROM:-0500
TZOFFSETTO:-0600
TZNAME:CST
DTSTART:20261101T070000
END:STANDARD
END:VTIMEZONE
BEGIN:VEVENT
DTSTART;TZID=America/Chicago:20260507T120000
DTEND;TZID=America/Chicago:20260507T130000
DTSTAMP:20260420T003216
CREATED:20250918T154233Z
LAST-MODIFIED:20251210T194221Z
UID:5625-1778155200-1778158800@syntheticbiology.northwestern.edu
SUMMARY:May - Research In Progress Meeting
DESCRIPTION:The Research-In-Progress (RIP) Meetings aim to highlight ongoing\, unpublished work by students and postdoctoral fellows in CSB. These monthly meetings strengthen our research and foster a more collaborative research environment by organizing the diverse sets of expertise within CSB and our greater research community to discuss new results\, suggest future experiments\, and brainstorm potential applications. These also provide a forum in which students and postdocs can practice scientific communication with colleagues in a more relaxed atmosphere.
URL:https://syntheticbiology.northwestern.edu/event/may-research-in-progress-meeting-2/
LOCATION:Evanston Campus\, 2145 Sheridan Road\, Evanston\, IL\, 60208\, United States
CATEGORIES:RIP Meetings
END:VEVENT
BEGIN:VEVENT
DTSTART;VALUE=DATE:20260513
DTEND;VALUE=DATE:20260515
DTSTAMP:20260420T003216
CREATED:20260115T204603Z
LAST-MODIFIED:20260415T171344Z
UID:5915-1778630400-1778803199@syntheticbiology.northwestern.edu
SUMMARY:CSB 10-Year Anniversary and Retreat Celebration
DESCRIPTION:The Center for Synthetic Biology will celebrate a decade of discovery\, collaboration\, and impact May 13-14\, 2026\, at the Woman’s Club of Evanston. The event will bring together current members\, alumni\, partners\, collaborators\, and supporters for reflection\, reconnection\, and forward-thinking discussion. The two day event will include keynote talks\, panel discussions\, and celebratory receptions. \nCSB 10 Year Anniversary and Retreat Website \n 
URL:https://syntheticbiology.northwestern.edu/event/csb-10-year-anniversary-celebration/
LOCATION:Off-Campus\, 1702 Chicago Ave\, Evanston\, IL\, 60201
CATEGORIES:Annual Retreat
ATTACH;FMTTYPE=image/png:https://syntheticbiology.northwestern.edu/app/uploads/2026/01/CSB_10-Year-Vertical_smallpx.png
END:VEVENT
END:VCALENDAR